BEGIN:VCALENDAR
VERSION:2.0
PRODID:-//Emma Heirendt - ECPv6.15.20//NONSGML v1.0//EN
CALSCALE:GREGORIAN
METHOD:PUBLISH
X-ORIGINAL-URL:https://emmanoproblema.com
X-WR-CALDESC:Events for Emma Heirendt
REFRESH-INTERVAL;VALUE=DURATION:PT1H
X-Robots-Tag:noindex
X-PUBLISHED-TTL:PT1H
BEGIN:VTIMEZONE
TZID:America/Los_Angeles
BEGIN:DAYLIGHT
TZOFFSETFROM:-0800
TZOFFSETTO:-0700
TZNAME:PDT
DTSTART:20250309T100000
END:DAYLIGHT
BEGIN:STANDARD
TZOFFSETFROM:-0700
TZOFFSETTO:-0800
TZNAME:PST
DTSTART:20251102T090000
END:STANDARD
BEGIN:DAYLIGHT
TZOFFSETFROM:-0800
TZOFFSETTO:-0700
TZNAME:PDT
DTSTART:20260308T100000
END:DAYLIGHT
BEGIN:STANDARD
TZOFFSETFROM:-0700
TZOFFSETTO:-0800
TZNAME:PST
DTSTART:20261101T090000
END:STANDARD
BEGIN:DAYLIGHT
TZOFFSETFROM:-0800
TZOFFSETTO:-0700
TZNAME:PDT
DTSTART:20270314T100000
END:DAYLIGHT
BEGIN:STANDARD
TZOFFSETFROM:-0700
TZOFFSETTO:-0800
TZNAME:PST
DTSTART:20271107T090000
END:STANDARD
END:VTIMEZONE
BEGIN:VEVENT
DTSTART;TZID=America/Los_Angeles:20260401T120000
DTEND;TZID=America/Los_Angeles:20260401T130000
DTSTAMP:20260423T171705
CREATED:20260313T180342Z
LAST-MODIFIED:20260313T180342Z
UID:18358-1775044800-1775048400@emmanoproblema.com
SUMMARY:Full Moon Lunch
DESCRIPTION:Join us for a gentle midday pause under the energy of the full moon. From 12-1 pm PDT on Zoom\, we’ll gather as a community to reflect\, call in balance\, and prepare to release what no longer serves us. \nBring your lunch if you’d like\, settle in\, and enjoy a relaxed hour together. We’ll talk about the energy of the current full moon\, take turns sharing how the past month went\, and explore a few simple ways you can carry ritual forward in your own space. \nThis gathering is free and open to all. If you feel moved\, donations are always appreciated\, but never required. @Emma-Heirendt on Venmo. \nCome as you are\, eat your lunch\, and set your intentions beneath the big\, beautiful full moon. This event is online. \nPlease reserve a spot and you will be emailed a meeting link.
URL:https://emmanoproblema.com/event/full-moon-lunch
ATTACH;FMTTYPE=image/png:https://emmanoproblema.com/wp-content/uploads/2026/03/Full-Moon-Lunch-2.png
ORGANIZER;CN="Emma Heirendt":MAILTO:emmanoproblema@gmail.com
END:VEVENT
END:VCALENDAR