BEGIN:VCALENDAR
VERSION:2.0
PRODID:-//Emma Heirendt - ECPv6.15.20//NONSGML v1.0//EN
CALSCALE:GREGORIAN
METHOD:PUBLISH
X-WR-CALNAME:Emma Heirendt
X-ORIGINAL-URL:https://emmanoproblema.com
X-WR-CALDESC:Events for Emma Heirendt
REFRESH-INTERVAL;VALUE=DURATION:PT1H
X-Robots-Tag:noindex
X-PUBLISHED-TTL:PT1H
BEGIN:VTIMEZONE
TZID:America/Los_Angeles
BEGIN:DAYLIGHT
TZOFFSETFROM:-0800
TZOFFSETTO:-0700
TZNAME:PDT
DTSTART:20250309T100000
END:DAYLIGHT
BEGIN:STANDARD
TZOFFSETFROM:-0700
TZOFFSETTO:-0800
TZNAME:PST
DTSTART:20251102T090000
END:STANDARD
BEGIN:DAYLIGHT
TZOFFSETFROM:-0800
TZOFFSETTO:-0700
TZNAME:PDT
DTSTART:20260308T100000
END:DAYLIGHT
BEGIN:STANDARD
TZOFFSETFROM:-0700
TZOFFSETTO:-0800
TZNAME:PST
DTSTART:20261101T090000
END:STANDARD
BEGIN:DAYLIGHT
TZOFFSETFROM:-0800
TZOFFSETTO:-0700
TZNAME:PDT
DTSTART:20270314T100000
END:DAYLIGHT
BEGIN:STANDARD
TZOFFSETFROM:-0700
TZOFFSETTO:-0800
TZNAME:PST
DTSTART:20271107T090000
END:STANDARD
END:VTIMEZONE
BEGIN:VEVENT
DTSTART;TZID=America/Los_Angeles:20260318T120000
DTEND;TZID=America/Los_Angeles:20260318T130000
DTSTAMP:20260424T080124
CREATED:20260313T174433Z
LAST-MODIFIED:20260313T174541Z
UID:18354-1773835200-1773838800@emmanoproblema.com
SUMMARY:New Moon Lunch
DESCRIPTION:Join us for a gentle midday pause under the energy of the new moon. From 12-1 pm PDT on Zoom\, we’ll gather as a community to reflect\, set intentions\, and welcome the fresh cycle beginning above us. \nBring your lunch if you’d like\, settle in\, and enjoy a relaxed hour together. We’ll talk about the energy of the current new moon\, take turns sharing intentions for the month ahead\, and explore a few simple ways you can carry ritual forward in your own space. \nThis gathering is free and open to all. If you feel moved\, donations are always appreciated\, but never required. @Emma-Heirendt on Venmo. \nCome as you are\, eat your lunch\, and set your intentions beneath the quiet magic of the new moon. This event is online. \nPlease reserve a spot and you will be emailed a meeting link.
URL:https://emmanoproblema.com/event/new-moon-lunch
ATTACH;FMTTYPE=image/png:https://emmanoproblema.com/wp-content/uploads/2026/03/New-Moon-Lunch.png
ORGANIZER;CN="Emma Heirendt":MAILTO:emmanoproblema@gmail.com
END:VEVENT
END:VCALENDAR