BEGIN:VCALENDAR
VERSION:2.0
PRODID:-//Emma Heirendt - ECPv6.15.20//NONSGML v1.0//EN
CALSCALE:GREGORIAN
METHOD:PUBLISH
X-ORIGINAL-URL:https://emmanoproblema.com
X-WR-CALDESC:Events for Emma Heirendt
REFRESH-INTERVAL;VALUE=DURATION:PT1H
X-Robots-Tag:noindex
X-PUBLISHED-TTL:PT1H
BEGIN:VTIMEZONE
TZID:America/Los_Angeles
BEGIN:DAYLIGHT
TZOFFSETFROM:-0800
TZOFFSETTO:-0700
TZNAME:PDT
DTSTART:20250309T100000
END:DAYLIGHT
BEGIN:STANDARD
TZOFFSETFROM:-0700
TZOFFSETTO:-0800
TZNAME:PST
DTSTART:20251102T090000
END:STANDARD
BEGIN:DAYLIGHT
TZOFFSETFROM:-0800
TZOFFSETTO:-0700
TZNAME:PDT
DTSTART:20260308T100000
END:DAYLIGHT
BEGIN:STANDARD
TZOFFSETFROM:-0700
TZOFFSETTO:-0800
TZNAME:PST
DTSTART:20261101T090000
END:STANDARD
BEGIN:DAYLIGHT
TZOFFSETFROM:-0800
TZOFFSETTO:-0700
TZNAME:PDT
DTSTART:20270314T100000
END:DAYLIGHT
BEGIN:STANDARD
TZOFFSETFROM:-0700
TZOFFSETTO:-0800
TZNAME:PST
DTSTART:20271107T090000
END:STANDARD
END:VTIMEZONE
BEGIN:VEVENT
DTSTART;TZID=America/Los_Angeles:20260509T140000
DTEND;TZID=America/Los_Angeles:20260509T160000
DTSTAMP:20260423T135748
CREATED:20260131T003741Z
LAST-MODIFIED:20260403T000023Z
UID:18279-1778335200-1778342400@emmanoproblema.com
SUMMARY:The Zodiac Circle: Taurus Season
DESCRIPTION:Taurus season invites us to ignite all of our senses. It’s taking time to smell the freshly bloomed flowers\, feel the warmth of the spring sun on our skin\, and give ourselves permission to plant our feet firmly in the ground and say: I’m worthy of love even when I’m still. \nJoin us for an early afternoon of connection\, reflection\, and seasonal magic as we gather in community to celebrate ourselves\, each other\, and the fiery energy of Taurus. \nWhat to Expect\nFrom the moment you arrive\, you’ll be invited into a warm\, intentional space. We’ll begin with a playful check-in and a fun “How Taurus Are You?” quiz before stepping into a guided journey through the zodiac and the meaning of Taurus season. \nThrough various activities\, you’ll have space to reflect\, connect\, and honor yourself. \nNo astrology experience is needed. You don’t even need to be an Taurus to attend! Just bring your curiosity and an open mind. \nThis 18+ event is open to all women\, including cis and trans women\, and non-binary people who feel comfortable in a space that centers the experience of women. \nThis gathering is for you if you are: \n\nA Taurus woman\nCelebrating or honoring a Taurus\nLooking to expand your community\nCurious about astrology in a grounded\, accessible way\nReady to celebrate yourself more fully\nCraving meaningful connection with other women\n\nCost: $25-$45 sliding scale \nPurchase via Venmo @Emma-Heirendt  Please pay what you can. Include the name of the event you’d like to attend in the memo.
URL:https://emmanoproblema.com/event/the-zodiac-circle-taurus-season
LOCATION:Heart Art Studio\, LLC\, 22002 64th Ave W #2b\, Mountlake Terrace\, WA\, 98043\, United States
ATTACH;FMTTYPE=image/png:https://emmanoproblema.com/wp-content/uploads/2026/01/Copy-of-The-Zodiac-Circle-Aries-Season-1.png
END:VEVENT
END:VCALENDAR